BEGIN:VCALENDAR
VERSION:2.0
PRODID:-// - ECPv6.15.20//NONSGML v1.0//EN
CALSCALE:GREGORIAN
METHOD:PUBLISH
X-ORIGINAL-URL:https://bradleyellingboe.com
X-WR-CALDESC:Events for 
REFRESH-INTERVAL;VALUE=DURATION:PT1H
X-Robots-Tag:noindex
X-PUBLISHED-TTL:PT1H
BEGIN:VTIMEZONE
TZID:America/Denver
BEGIN:DAYLIGHT
TZOFFSETFROM:-0700
TZOFFSETTO:-0600
TZNAME:MDT
DTSTART:20160313T090000
END:DAYLIGHT
BEGIN:STANDARD
TZOFFSETFROM:-0600
TZOFFSETTO:-0700
TZNAME:MST
DTSTART:20161106T080000
END:STANDARD
BEGIN:DAYLIGHT
TZOFFSETFROM:-0700
TZOFFSETTO:-0600
TZNAME:MDT
DTSTART:20170312T090000
END:DAYLIGHT
BEGIN:STANDARD
TZOFFSETFROM:-0600
TZOFFSETTO:-0700
TZNAME:MST
DTSTART:20171105T080000
END:STANDARD
BEGIN:DAYLIGHT
TZOFFSETFROM:-0700
TZOFFSETTO:-0600
TZNAME:MDT
DTSTART:20180311T090000
END:DAYLIGHT
BEGIN:STANDARD
TZOFFSETFROM:-0600
TZOFFSETTO:-0700
TZNAME:MST
DTSTART:20181104T080000
END:STANDARD
END:VTIMEZONE
BEGIN:VEVENT
DTSTART;TZID=America/Denver:20170502T180000
DTEND;TZID=America/Denver:20170502T203000
DTSTAMP:20260420T080922
CREATED:20170429T023235Z
LAST-MODIFIED:20170429T023944Z
UID:578-1493748000-1493757000@bradleyellingboe.com
SUMMARY:Final rehearsal/CD release party
DESCRIPTION:Coro Lux’s Chamber Chorus will have their final rehearsal before the weekend’s concerts\, and the Oratorio Society will act as audience\, after which we’ll drink some wine and celebrate our first-ever CD:  Brahms’s Requiem (London Version)
URL:https://bradleyellingboe.com/event/final-rehearsalcd-release-party/
LOCATION:Casa Rodena\, Albuquerque\, NM\, United States
CATEGORIES:All Events
END:VEVENT
BEGIN:VEVENT
DTSTART;TZID=America/Denver:20170409T190000
DTEND;TZID=America/Denver:20170409T220000
DTSTAMP:20260420T080922
CREATED:20170302T001143Z
LAST-MODIFIED:20170409T200053Z
UID:418-1491764400-1491775200@bradleyellingboe.com
SUMMARY:Conduct Brahms’s Ein Deutsches Requiem
DESCRIPTION:Albuquerque\, New Mexico. Conduct Brahms’s Ein Deutsches Requiem with Coro\nLux\, 3 pm\, St. Paul Lutheran Church.
URL:https://bradleyellingboe.com/event/conduct-brahmss-ein-deutsches-requiem/
LOCATION:NM
CATEGORIES:All Events
END:VEVENT
BEGIN:VEVENT
DTSTART;TZID=America/Denver:20170408T190000
DTEND;TZID=America/Denver:20170408T220000
DTSTAMP:20260420T080922
CREATED:20170302T000958Z
LAST-MODIFIED:20170302T003346Z
UID:416-1491678000-1491688800@bradleyellingboe.com
SUMMARY:Conducting Brahms’s Ein Deutsches Requiem
DESCRIPTION:Albuquerque\, New Mexico. Conduct Brahms’s Ein Deutsches Requiem with Coro\nLux\, 7 pm\, St. Paul Lutheran Church.
URL:https://bradleyellingboe.com/event/conducting-brahmss-ein-deutsches-requiem/
LOCATION:NM
CATEGORIES:All Events
END:VEVENT
BEGIN:VEVENT
DTSTART;TZID=America/Denver:20170401T080000
DTEND;TZID=America/Denver:20170402T170000
DTSTAMP:20260420T080922
CREATED:20170302T000850Z
LAST-MODIFIED:20170302T003352Z
UID:414-1491033600-1491152400@bradleyellingboe.com
SUMMARY:World premiere of “The  Reason For My Song”
DESCRIPTION:Sonoma\, California.  In town to rehearse and conduct the world premiere of “The\nReason For My Song.”  Commissioned by the Valley of the Moon Chamber Ensemble of Sonoma.
URL:https://bradleyellingboe.com/event/world-premiere-of-the-reason-for-my-song/
LOCATION:NM
CATEGORIES:All Events
END:VEVENT
BEGIN:VEVENT
DTSTART;VALUE=DATE:20170308
DTEND;VALUE=DATE:20170312
DTSTAMP:20260420T080922
CREATED:20170302T000519Z
LAST-MODIFIED:20170302T003357Z
UID:412-1488931200-1489276799@bradleyellingboe.com
SUMMARY:National Convention of American Choral Directors
DESCRIPTION:Minneapolis\, Minnesota. National convention of American Choral Directors Association.Thursday\, March 9\, 2 pm\, leading new music reading session\, Music for the Church Year\, Kjos Music
URL:https://bradleyellingboe.com/event/national-convention-of-american-choral-directors/
LOCATION:NM
CATEGORIES:All Events
END:VEVENT
END:VCALENDAR